BEGIN:VCALENDAR
VERSION:2.0
PRODID:-//Play Guitar NOW! - ECPv6.15.17.1//NONSGML v1.0//EN
CALSCALE:GREGORIAN
METHOD:PUBLISH
X-WR-CALNAME:Play Guitar NOW!
X-ORIGINAL-URL:https://playguitarnow.de
X-WR-CALDESC:Veranstaltungen für Play Guitar NOW!
REFRESH-INTERVAL;VALUE=DURATION:PT1H
X-Robots-Tag:noindex
X-PUBLISHED-TTL:PT1H
BEGIN:VTIMEZONE
TZID:Europe/Berlin
BEGIN:DAYLIGHT
TZOFFSETFROM:+0100
TZOFFSETTO:+0200
TZNAME:CEST
DTSTART:20250330T010000
END:DAYLIGHT
BEGIN:STANDARD
TZOFFSETFROM:+0200
TZOFFSETTO:+0100
TZNAME:CET
DTSTART:20251026T010000
END:STANDARD
BEGIN:DAYLIGHT
TZOFFSETFROM:+0100
TZOFFSETTO:+0200
TZNAME:CEST
DTSTART:20260329T010000
END:DAYLIGHT
BEGIN:STANDARD
TZOFFSETFROM:+0200
TZOFFSETTO:+0100
TZNAME:CET
DTSTART:20261025T010000
END:STANDARD
BEGIN:DAYLIGHT
TZOFFSETFROM:+0100
TZOFFSETTO:+0200
TZNAME:CEST
DTSTART:20270328T010000
END:DAYLIGHT
BEGIN:STANDARD
TZOFFSETFROM:+0200
TZOFFSETTO:+0100
TZNAME:CET
DTSTART:20271031T010000
END:STANDARD
END:VTIMEZONE
BEGIN:VEVENT
DTSTART;TZID=Europe/Berlin:20260614T113000
DTEND;TZID=Europe/Berlin:20260614T140000
DTSTAMP:20260423T132304
CREATED:20260305T152119Z
LAST-MODIFIED:20260305T152119Z
UID:4209-1781436600-1781445600@playguitarnow.de
SUMMARY:Endlich Ukulele - Der Workshop am Bocholter Aasee
DESCRIPTION:Endlich Ukulele – Der Workshop! Und zwar für alle die mit Freude und absolut barrierefrei ein Instrument kennen lernen wollen dass puren Spielspaß bedeutet. Geeignet für absolute Anfänger und leicht Fortgeschrittene. Das beste daran: Er findet dort statt wo die Ukulele sich am wohlsten fühlt – am Wasser\, mit den Füßen im Sand und den Augen Richtung Wasser! \nSei dabei!
URL:https://playguitarnow.de/event/endlich-ukulele-der-workshop-am-bocholter-aasee/
LOCATION:Aasee\, Aasee\, Bocholt\, Deutschland
CATEGORIES:Ukulele
ATTACH;FMTTYPE=image/jpeg:https://playguitarnow.de/wp-content/uploads/2025/02/Strandbad-Aasee.jpg
ORGANIZER;CN="Play Gutar Now":MAILTO:info@playguitarnow.de
END:VEVENT
END:VCALENDAR